BEGIN:VCALENDAR
VERSION:2.0
PRODID:-//Sabre//Sabre VObject 4.5.7//EN
CALSCALE:GREGORIAN
BEGIN:VEVENT
UID:sabre-vobject-1425d984-430d-4ac1-ba9a-138bab1bd0eb
DTSTAMP:20260424T205144Z
SUMMARY:Testfilm 2026
DTSTART;TZID=Europe/Berlin:20250922T220400
DTEND;TZID=Europe/Berlin:20250923T000400
END:VEVENT
END:VCALENDAR